{
 "currentVersion": 11.1,
 "serviceDescription": "2021_Imagery",
 "name": "2021_Imagery",
 "description": "",
 "extent": {
  "xmin": 410500,
  "ymin": 5468500,
  "xmax": 482500,
  "ymax": 5516500,
  "spatialReference": {
   "wkid": 3157,
   "latestWkid": 3157
  }
 },
 "initialExtent": {
  "xmin": 410500,
  "ymin": 5468500,
  "xmax": 482500,
  "ymax": 5516500,
  "spatialReference": {
   "wkid": 3157,
   "latestWkid": 3157
  }
 },
 "fullExtent": {
  "xmin": 410500,
  "ymin": 5468500,
  "xmax": 482500,
  "ymax": 5516500,
  "spatialReference": {
   "wkid": 3157,
   "latestWkid": 3157
  }
 },
 "sortableFields": "",
 "bandCount": 5,
 "pixelType": "U8",
 "minValues": [
  0,
  0,
  0,
  0,
  0
 ],
 "maxValues": [
  255,
  255,
  255,
  255,
  255
 ],
 "meanValues": [
  180.50482729028,
  189.48895086891,
  190.80197382536,
  192.73235357219,
  102.22849173997
 ],
 "stdvValues": [
  92.30892944653,
  81.060096581969,
  79.003715394235,
  82.71681295788,
  123.951782308
 ],
 "hasMultidimensions": false,
 "pixelSizeX": 0.15,
 "pixelSizeY": 0.15,
 "datasetFormat": "MrSID",
 "uncompressedSize": 768000000000,
 "blockWidth": 1024,
 "blockHeight": 128,
 "compressionType": "Wavelet (MG4)",
 "bandNames": [
  "Band_1",
  "Band_2",
  "Band_3",
  "Band_4",
  "Band_5"
 ],
 "allowCopy": true,
 "allowAnalysis": true,
 "itemAccess": false,
 "minPixelSize": 0,
 "maxPixelSize": 0,
 "copyrightText": "",
 "serviceDataType": "esriImageServiceDataTypeGeneric",
 "serviceSourceType": "esriImageServiceSourceTypeDataset",
 "objectIdField": "",
 "fields": [],
 "capabilities": "Mensuration,Image,Metadata",
 "defaultMosaicMethod": "Center",
 "allowedMosaicMethods": "",
 "sortField": "",
 "sortValue": null,
 "sortAscending": true,
 "mosaicOperator": "First",
 "defaultCompressionQuality": 75,
 "defaultResamplingMethod": "Bilinear",
 "maxImageHeight": 4100,
 "maxImageWidth": 15000,
 "allowRasterFunction": true,
 "rasterFunctionInfos": [
  {
   "name": "None",
   "description": "",
   "help": ""
  }
 ],
 "rasterTypeInfos": [
  {
   "name": "Raster Dataset",
   "description": "Supports all ArcGIS Raster Datasets",
   "help": ""
  }
 ],
 "mensurationCapabilities": "Basic",
 "hasHistograms": true,
 "hasColormap": false,
 "hasRasterAttributeTable": false,
 "minScale": 0,
 "maxScale": 0,
 "exportTilesAllowed": false,
 "supportsStatistics": false,
 "supportsAdvancedQueries": false,
 "editFieldsInfo": null,
 "ownershipBasedAccessControlForRasters": null,
 "allowComputeTiePoints": false,
 "useStandardizedQueries": true,
 "advancedQueryCapabilities": {
  "useStandardizedQueries": true,
  "supportsStatistics": false,
  "supportsOrderBy": false,
  "supportsDistinct": false,
  "supportsPagination": false
 },
 "spatialReference": {
  "wkid": 3157,
  "latestWkid": 3157
 }
}
