View In:
ArcGIS JavaScript
ArcGIS Online Map Viewer
ArcGIS Earth
Service Description: 2021_Imagery
Name: 2021_Imagery
Description:
Single Fused Map Cache: false
Extent:
XMin: 410500.0
YMin: 5468500.0
XMax: 482500.0
YMax: 5516500.0
Spatial Reference: 3157
(3157)
LatestVCSWkid(0)
Initial Extent:
XMin: 410500.0
YMin: 5468500.0
XMax: 482500.0
YMax: 5516500.0
Spatial Reference: 3157
(3157)
LatestVCSWkid(0)
Full Extent:
XMin: 410500.0
YMin: 5468500.0
XMax: 482500.0
YMax: 5516500.0
Spatial Reference: 3157
(3157)
LatestVCSWkid(0)
Pixel Size X: 0.15
Pixel Size Y: 0.15
Band Count: 5
Pixel Type: U8
RasterFunction Infos: {"rasterFunctionInfos": [{
"name": "None",
"description": "",
"help": ""
}]}
Mensuration Capabilities: Basic
Has Histograms: true
Has Colormap: false
Has Multi Dimensions : false
Rendering Rule:
Min Scale: 0
Max Scale: 0
Copyright Text:
Service Data Type: esriImageServiceDataTypeGeneric
Min Values: 0, 0, 0, 0, 0
Max Values: 255, 255, 255, 255, 255
Mean Values: 180.50482729028, 189.48895086891, 190.80197382536, 192.73235357219, 102.22849173997
Standard Deviation Values: 92.30892944653, 81.060096581969, 79.003715394235, 82.71681295788, 123.951782308
Object ID Field:
Fields:
None
Default Mosaic Method: Center
Allowed Mosaic Methods:
SortField:
SortValue: null
Mosaic Operator: First
Default Compression Quality: 75
Default Resampling Method: Bilinear
Max Record Count: null
Max Image Height: 4100
Max Image Width: 15000
Max Download Image Count: null
Max Mosaic Image Count: null
Allow Raster Function: true
Allow Copy: true
Allow Analysis: true
Allow Compute TiePoints: false
Supports Statistics: false
Supports Advanced Queries: false
Use StandardizedQueries: true
Raster Type Infos:
Name: Raster Dataset
Description: Supports all ArcGIS Raster Datasets
Help:
Has Raster Attribute Table: false
Edit Fields Info: null
Ownership Based AccessControl For Rasters: null
Child Resources:
Info
Histograms
Statistics
Key Properties
Legend
Raster Function Infos
Supported Operations:
Export Image
Identify
Measure
Compute Histograms
Compute Statistics Histograms
Get Samples
Compute Class Statistics
Query Boundary
Compute Pixel Location
Compute Angles
Validate
Project